BEGIN:VCALENDAR
VERSION:2.0
METHOD:ADD
CALSCALE:GREGORIAN
PRODID:-//Vital Support Systems//DA
BEGIN:VEVENT
UID:8cf6688f-0e10-4a21-bb52-8235f3327838
DTSTART:20260424T010000Z
DTEND:20260424T020000Z
LOCATION:St. Francis Center 
DESCRIPTION:Come learn about the candidates running for Briar Cliff Student Government executive board!
SUMMARY:Student Government Debate
PRIORITY:0
BEGIN:VALARM
Trigger:-P1D
REPEAT:1
ACTION:DISPLAY
DESCRIPTION:Reminder for:Come learn about the candidates running for Briar Cliff Student Government executive board!
END:VALARM
END:VEVENT
END:VCALENDAR
