BEGIN:VCALENDAR
VERSION:2.0
METHOD:ADD
CALSCALE:GREGORIAN
PRODID:-//Vital Support Systems//DA
BEGIN:VEVENT
UID:f7dc4bd6-6a8d-479e-ad33-b3ba5afaa57e
DTSTART:20260422T140000Z
DTEND:20260422T170000Z
DESCRIPTION:Learn about the trash to treasure program!
SUMMARY:Trash to Treasure Kick-Off Event
PRIORITY:0
BEGIN:VALARM
Trigger:-P1D
REPEAT:1
ACTION:DISPLAY
DESCRIPTION:Reminder for:Learn about the trash to treasure program!
END:VALARM
END:VEVENT
END:VCALENDAR
